BEGIN:VCALENDAR
VERSION:2.0
PRODID:-//94.9 The Wave - ECPv4.6.26//NONSGML v1.0//EN
CALSCALE:GREGORIAN
METHOD:PUBLISH
X-WR-CALNAME:94.9 The Wave
X-ORIGINAL-URL:https://949thewave.com
X-WR-CALDESC:Events for 94.9 The Wave
BEGIN:VEVENT
DTSTART;VALUE=DATE:20260521
DTEND;VALUE=DATE:20260522
DTSTAMP:20260424T135041
CREATED:20260420T180119Z
LAST-MODIFIED:20260420T180119Z
UID:18275-1779321600-1779407999@949thewave.com
SUMMARY:Crafty Corner: Daffodil craft
DESCRIPTION:Glace Bay Library \nThurs May 21   3:30pm \nMake a cute daffodil craft \n
URL:https://949thewave.com/event/crafty-corner-daffodil-craft/
END:VEVENT
END:VCALENDAR