BEGIN:VCALENDAR
VERSION:2.0
PRODID:-//94.9 The Wave - ECPv4.6.26//NONSGML v1.0//EN
CALSCALE:GREGORIAN
METHOD:PUBLISH
X-WR-CALNAME:94.9 The Wave
X-ORIGINAL-URL:https://949thewave.com
X-WR-CALDESC:Events for 94.9 The Wave
BEGIN:VEVENT
DTSTART;TZID=America/Halifax:20220917T100000
DTEND;TZID=America/Halifax:20220917T150000
DTSTAMP:20260424T135424
CREATED:20220912T151256Z
LAST-MODIFIED:20220914T161216Z
UID:13124-1663408800-1663426800@949thewave.com
SUMMARY:Craft Sale
DESCRIPTION:When: Saturday\, September 17th from 10am-3pm \nWhere:  Brookshaven Hall\, 1748 Alexandra St\, Prime Brook. \nWhat:  Craft sale will include baby quilts\, hand poured candles\, wood crafts and more. \n
URL:https://949thewave.com/event/craft-sale-2/
END:VEVENT
END:VCALENDAR