BEGIN:VCALENDAR
VERSION:2.0
PRODID:-//94.9 The Wave - ECPv4.6.26//NONSGML v1.0//EN
CALSCALE:GREGORIAN
METHOD:PUBLISH
X-WR-CALNAME:94.9 The Wave
X-ORIGINAL-URL:https://949thewave.com
X-WR-CALDESC:Events for 94.9 The Wave
BEGIN:VEVENT
DTSTART;TZID=America/Halifax:20220531T100000
DTEND;TZID=America/Halifax:20220531T150000
DTSTAMP:20260421T003450
CREATED:20220530T151325Z
LAST-MODIFIED:20220530T151325Z
UID:12671-1653991200-1654009200@949thewave.com
SUMMARY:Craft Fair
DESCRIPTION:\n\n\n \nRCL Branch 12 Dorchester Street will be hosting a Craft Fair May 31st between 10AM – 3PM – free admission.\n\n\n\n
URL:https://949thewave.com/event/craft-fair-3/
END:VEVENT
END:VCALENDAR