BEGIN:VCALENDAR
VERSION:2.0
PRODID:-//94.9 The Wave - ECPv4.6.26//NONSGML v1.0//EN
CALSCALE:GREGORIAN
METHOD:PUBLISH
X-WR-CALNAME:94.9 The Wave
X-ORIGINAL-URL:https://949thewave.com
X-WR-CALDESC:Events for 94.9 The Wave
BEGIN:VEVENT
DTSTART;VALUE=DATE:20230118
DTEND;VALUE=DATE:20230119
DTSTAMP:20260423T144308
CREATED:20230110T172154Z
LAST-MODIFIED:20230110T172154Z
UID:13503-1674000000-1674086399@949thewave.com
SUMMARY:Corney Brook Hike or Snowshoe
DESCRIPTION:Corney Brook Hike or Snowshoe: Jan. 18\nHike Nova Scotia and the Cape Breton Highlands National Park present a guided hike at Corney Brook in Cheticamp on January 18 at 10 am. Details at www.hikenovascotia.ca. \nFor more information on this event or Hike Nova Scotia contact (not for publication):\nJanet Barlow\, Hike Nova Scotia\n(902) 932-6902\ninfo@hikenovascotia.ca \n
URL:https://949thewave.com/event/corney-brook-hike-or-snowshoe/
END:VEVENT
END:VCALENDAR