BEGIN:VCALENDAR
VERSION:2.0
PRODID:-//94.9 The Wave - ECPv4.6.26//NONSGML v1.0//EN
CALSCALE:GREGORIAN
METHOD:PUBLISH
X-WR-CALNAME:94.9 The Wave
X-ORIGINAL-URL:https://949thewave.com
X-WR-CALDESC:Events for 94.9 The Wave
BEGIN:VEVENT
DTSTART;VALUE=DATE:20230621
DTEND;VALUE=DATE:20230622
DTSTAMP:20260422T031250
CREATED:20230601T181322Z
LAST-MODIFIED:20230601T181322Z
UID:14204-1687305600-1687391999@949thewave.com
SUMMARY:Cookie Exchange
DESCRIPTION:Glace Bay Library \nWednesday June 21 \n6pm \nBring your favourite cookies to share and exchange for some new ones.  Please register by calling 902-849-8657 or by emailing ewilliams@cbrl.ca \n  \n
URL:https://949thewave.com/event/cookie-exchange/
END:VEVENT
END:VCALENDAR