BEGIN:VCALENDAR
VERSION:2.0
PRODID:-//94.9 The Wave - ECPv4.6.26//NONSGML v1.0//EN
CALSCALE:GREGORIAN
METHOD:PUBLISH
X-WR-CALNAME:94.9 The Wave
X-ORIGINAL-URL:https://949thewave.com
X-WR-CALDESC:Events for 94.9 The Wave
BEGIN:VEVENT
DTSTART;TZID=America/Halifax:20190428T193000
DTEND;TZID=America/Halifax:20190428T213000
DTSTAMP:20260420T210346
CREATED:20190322T174511Z
LAST-MODIFIED:20190322T174511Z
UID:6538-1556479800-1556487000@949thewave.com
SUMMARY:Concert
DESCRIPTION:The Cape Breton Chorale will present Heaven and Earth on Sunday\, April 28th\, at the United Protestant Church\, Sydney River starting at 7:30pm.\nGeneral admission is $25.00\, Tickets are available from Chorale Members\, Cape Breton Curiosity Shop\, by phoning 902-539-7495 or at the door. \n
URL:https://949thewave.com/event/concert/
END:VEVENT
END:VCALENDAR