BEGIN:VCALENDAR
VERSION:2.0
PRODID:-//94.9 The Wave - ECPv4.6.26//NONSGML v1.0//EN
CALSCALE:GREGORIAN
METHOD:PUBLISH
X-WR-CALNAME:94.9 The Wave
X-ORIGINAL-URL:https://949thewave.com
X-WR-CALDESC:Events for 94.9 The Wave
BEGIN:VEVENT
DTSTART;TZID=America/Halifax:20180722T150000
DTEND;TZID=America/Halifax:20180722T160000
DTSTAMP:20260423T125513
CREATED:20180704T181232Z
LAST-MODIFIED:20180704T181232Z
UID:4701-1532271600-1532275200@949thewave.com
SUMMARY:Communion Service
DESCRIPTION:Communion Service \nCalvin Presbyterian Church\, Loch Lomond\, N.S \nJuly 22nd.  at 3.00pm \nMinister Rev. Corrie Stewart \nSpecial Music \nSt .Peter’s United Church  Choir. \nSocial  Hour at Loch Lomond Community Hall. \n  \n
URL:https://949thewave.com/event/communion-service/
END:VEVENT
END:VCALENDAR