BEGIN:VCALENDAR
VERSION:2.0
PRODID:-//94.9 The Wave - ECPv4.6.26//NONSGML v1.0//EN
CALSCALE:GREGORIAN
METHOD:PUBLISH
X-WR-CALNAME:94.9 The Wave
X-ORIGINAL-URL:https://949thewave.com
X-WR-CALDESC:Events for 94.9 The Wave
BEGIN:VEVENT
DTSTART;TZID=America/Halifax:20181117T110000
DTEND;TZID=America/Halifax:20181117T160000
DTSTAMP:20260423T120824
CREATED:20181101T175453Z
LAST-MODIFIED:20181101T175453Z
UID:5550-1542452400-1542470400@949thewave.com
SUMMARY:Combined Christmas Giving
DESCRIPTION:We will be holding our final day for applications for anyone needing help at Christmas on Nov 17th from 11:00 to 4:00.\, at the Salvation Army Hall \,King St in New Waterford. You will need to have your Health Cards and prof of income. \n
URL:https://949thewave.com/event/combined-christmas-giving/
END:VEVENT
END:VCALENDAR