BEGIN:VCALENDAR
VERSION:2.0
PRODID:-//94.9 The Wave - ECPv4.6.26//NONSGML v1.0//EN
CALSCALE:GREGORIAN
METHOD:PUBLISH
X-WR-CALNAME:94.9 The Wave
X-ORIGINAL-URL:https://949thewave.com
X-WR-CALDESC:Events for 94.9 The Wave
BEGIN:VEVENT
DTSTART;VALUE=DATE:20231103
DTEND;VALUE=DATE:20231105
DTSTAMP:20260420T204945
CREATED:20231010T171110Z
LAST-MODIFIED:20231010T171110Z
UID:14652-1698969600-1699142399@949thewave.com
SUMMARY:Combined Christmas Giving in New Waterford
DESCRIPTION:Combined Christmas Giving in New Waterford will be holding application days for families in need at Christmas Nov 3rd and 4th from 10:00am until 3pm at the Lions Club 471 Mahon St.\nYou will need your Health Cards and Notice of assessment. \n
URL:https://949thewave.com/event/combined-christmas-giving-in-new-waterford/
END:VEVENT
END:VCALENDAR