BEGIN:VCALENDAR
VERSION:2.0
PRODID:-//94.9 The Wave - ECPv4.6.26//NONSGML v1.0//EN
CALSCALE:GREGORIAN
METHOD:PUBLISH
X-WR-CALNAME:94.9 The Wave
X-ORIGINAL-URL:https://949thewave.com
X-WR-CALDESC:Events for 94.9 The Wave
BEGIN:VEVENT
DTSTART;TZID=America/Halifax:20231027T100000
DTEND;TZID=America/Halifax:20231027T130000
DTSTAMP:20260422T024147
CREATED:20231010T172643Z
LAST-MODIFIED:20231010T172643Z
UID:14688-1698400800-1698411600@949thewave.com
SUMMARY:Collage Drop in Craft
DESCRIPTION:Glace Bay Library \nFriday Oct 27 \n10 – 1 \nDrop in a create a colourful collage. \n  \n
URL:https://949thewave.com/event/collage-drop-in-craft/
END:VEVENT
END:VCALENDAR