BEGIN:VCALENDAR
VERSION:2.0
PRODID:-//94.9 The Wave - ECPv4.6.26//NONSGML v1.0//EN
CALSCALE:GREGORIAN
METHOD:PUBLISH
X-WR-CALNAME:94.9 The Wave
X-ORIGINAL-URL:https://949thewave.com
X-WR-CALDESC:Events for 94.9 The Wave
BEGIN:VEVENT
DTSTART;TZID=America/Halifax:20240926T160000
DTEND;TZID=America/Halifax:20240926T180000
DTSTAMP:20260420T173824
CREATED:20240830T142416Z
LAST-MODIFIED:20240830T142416Z
UID:16036-1727366400-1727373600@949thewave.com
SUMMARY:Clean Foundation
DESCRIPTION:Glace Bay Library \nThurs Sept 26 \n4 – 6pm \n
URL:https://949thewave.com/event/clean-foundation/
END:VEVENT
END:VCALENDAR