BEGIN:VCALENDAR
VERSION:2.0
PRODID:-//94.9 The Wave - ECPv4.6.26//NONSGML v1.0//EN
CALSCALE:GREGORIAN
METHOD:PUBLISH
X-WR-CALNAME:94.9 The Wave
X-ORIGINAL-URL:https://949thewave.com
X-WR-CALDESC:Events for 94.9 The Wave
BEGIN:VEVENT
DTSTART;TZID=America/Halifax:20181208T183000
DTEND;TZID=America/Halifax:20181208T193000
DTSTAMP:20260423T125541
CREATED:20181123T151624Z
LAST-MODIFIED:20181123T151624Z
UID:5722-1544293800-1544297400@949thewave.com
SUMMARY:Christmas Tree Lighting
DESCRIPTION:Christmas Tree lighting at Marion Bridge Crossroads (Riverside of St. Columba Church). Saturday\, Dec 8 at 6:30 PM. Everyone is invited to the Community Hall for hot chocolate. The MB fire department will be escorting Santa to lights up ceremony then back to the hall for photos.  \n
URL:https://949thewave.com/event/christmas-tree-lighting/
END:VEVENT
END:VCALENDAR