BEGIN:VCALENDAR
VERSION:2.0
PRODID:-//94.9 The Wave - ECPv4.6.26//NONSGML v1.0//EN
CALSCALE:GREGORIAN
METHOD:PUBLISH
X-WR-CALNAME:94.9 The Wave
X-ORIGINAL-URL:https://949thewave.com
X-WR-CALDESC:Events for 94.9 The Wave
BEGIN:VEVENT
DTSTART;TZID=America/Halifax:20191117T140000
DTEND;TZID=America/Halifax:20191117T160000
DTSTAMP:20260420T171837
CREATED:20191112T181711Z
LAST-MODIFIED:20191112T181711Z
UID:8412-1573999200-1574006400@949thewave.com
SUMMARY:Christmas Tea and Sale
DESCRIPTION:A Christmas Tea and Sale to be held at the WINS Hall\, 1836 Point Edward Highway\, Edwardsville on Sunday\, November 17\, 2019 from 2 PM – 4 PM.  Admission $7 \nWill have tables of crafts\, home baking\, a white elephant table and tickets on items.  Enjoy a variety of sandwiches\, homemade sweets\, tea and coffee. \nA great chance to support worthwhile projects and at the same time enjoy the fellowship of friends and neighbours. \n
URL:https://949thewave.com/event/christmas-tea-and-sale-7/
END:VEVENT
END:VCALENDAR