BEGIN:VCALENDAR
VERSION:2.0
PRODID:-//94.9 The Wave - ECPv4.6.26//NONSGML v1.0//EN
CALSCALE:GREGORIAN
METHOD:PUBLISH
X-WR-CALNAME:94.9 The Wave
X-ORIGINAL-URL:https://949thewave.com
X-WR-CALDESC:Events for 94.9 The Wave
BEGIN:VEVENT
DTSTART;TZID=America/Halifax:20181116T110000
DTEND;TZID=America/Halifax:20181116T130000
DTSTAMP:20260421T203941
CREATED:20181102T182130Z
LAST-MODIFIED:20181102T182130Z
UID:5559-1542366000-1542373200@949thewave.com
SUMMARY:Christmas Tea and Sale
DESCRIPTION:Christmas Tea and Sale hosted by St. Mary’s Senior Guild on Friday\, November 16\, 2018 from 11 AM – 1 PM at St. Mary’s Hall\, 8 Marconi Street\, Glace Bay.  Cost $7 with special dessert.  Eat in or Take out. \n
URL:https://949thewave.com/event/christmas-tea-and-sale-5/
END:VEVENT
END:VCALENDAR