BEGIN:VCALENDAR
VERSION:2.0
PRODID:-//94.9 The Wave - ECPv4.6.26//NONSGML v1.0//EN
CALSCALE:GREGORIAN
METHOD:PUBLISH
X-WR-CALNAME:94.9 The Wave
X-ORIGINAL-URL:https://949thewave.com
X-WR-CALDESC:Events for 94.9 The Wave
BEGIN:VEVENT
DTSTART;TZID=America/Halifax:20211205T140000
DTEND;TZID=America/Halifax:20211205T160000
DTSTAMP:20260424T122352
CREATED:20211129T132335Z
LAST-MODIFIED:20211129T132335Z
UID:12300-1638712800-1638720000@949thewave.com
SUMMARY:Christmas Tea And Bake Sale
DESCRIPTION:Hills of Boisdale Community Association will be holding a Christmas Tea And Bake Sale Sunday\, Dec.5 2021 from 2-4 pm with sandwiches and sweets\,\nbaked goods\, novelty table\, parcel post and local crafters. \nCOVID-19 regulations apply\, proof of double vaccine and ID’s are required For entrance. \n
URL:https://949thewave.com/event/christmas-tea-and-bake-sale-2/
CATEGORIES:Community Event
END:VEVENT
END:VCALENDAR