BEGIN:VCALENDAR
VERSION:2.0
PRODID:-//94.9 The Wave - ECPv4.6.26//NONSGML v1.0//EN
CALSCALE:GREGORIAN
METHOD:PUBLISH
X-WR-CALNAME:94.9 The Wave
X-ORIGINAL-URL:https://949thewave.com
X-WR-CALDESC:Events for 94.9 The Wave
BEGIN:VEVENT
DTSTART;TZID=America/Halifax:20231209T140000
DTEND;TZID=America/Halifax:20231209T160000
DTSTAMP:20260425T124608
CREATED:20231205T141149Z
LAST-MODIFIED:20231205T141149Z
UID:14949-1702130400-1702137600@949thewave.com
SUMMARY:CHRISTMAS MARKET AT BRANCH 55\, ROYAL CANADIAN LEGION\, PORT MORIEN
DESCRIPTION:The Port Morien Legion\, Branch 55\, will be hosting a “Christmas Social & Market” on Saturday December 9th from 2pm to 4pm. There will be a bake table\, a basket draw and ten local vendors. As usual\, the kitchen will be open serving tea and coffee\,  sweets and everyone’s favourite French fries. There is no admission.\nSo come on out\, visit with friends\, and enjoy some local holiday shopping. \n
URL:https://949thewave.com/event/christmas-market-at-branch-55-royal-canadian-legion-port-morien/
END:VEVENT
END:VCALENDAR