BEGIN:VCALENDAR
VERSION:2.0
PRODID:-//94.9 The Wave - ECPv4.6.26//NONSGML v1.0//EN
CALSCALE:GREGORIAN
METHOD:PUBLISH
X-WR-CALNAME:94.9 The Wave
X-ORIGINAL-URL:https://949thewave.com
X-WR-CALDESC:Events for 94.9 The Wave
BEGIN:VEVENT
DTSTART;TZID=America/Halifax:20241206T180000
DTEND;TZID=America/Halifax:20241206T200000
DTSTAMP:20260420T171704
CREATED:20241204T155300Z
LAST-MODIFIED:20241204T155300Z
UID:16504-1733508000-1733515200@949thewave.com
SUMMARY:Christmas Market
DESCRIPTION:Christmas vendor market\, Friday Dec 6th\, 6-8pm at the Catalone Recreation Centre\, 20 New Boston Rd \nFamily Friendly market with face painting\, holiday photos by Events in the Cape\, basket draw and 50/50\nFree Admisson \n
URL:https://949thewave.com/event/christmas-market-2/
END:VEVENT
END:VCALENDAR