BEGIN:VCALENDAR
VERSION:2.0
PRODID:-//94.9 The Wave - ECPv4.6.26//NONSGML v1.0//EN
CALSCALE:GREGORIAN
METHOD:PUBLISH
X-WR-CALNAME:94.9 The Wave
X-ORIGINAL-URL:https://949thewave.com
X-WR-CALDESC:Events for 94.9 The Wave
BEGIN:VEVENT
DTSTART;TZID=America/Halifax:20170909T090000
DTEND;TZID=America/Halifax:20170909T130000
DTSTAMP:20260425T194858
CREATED:20170727T182748Z
LAST-MODIFIED:20170727T182748Z
UID:3646-1504947600-1504962000@949thewave.com
SUMMARY:Christmas Island Community Fair
DESCRIPTION:Saturday September 9 Christmas Island Community Fair from 9a.m. to 1p.m. – car show\, bake sale\, flea market\, 50/50 draws. Hot dogs and delicious chili for sale. Located at the Christmas Island Fire Hall. \n
URL:https://949thewave.com/event/christmas-island-community-fair/
END:VEVENT
END:VCALENDAR