BEGIN:VCALENDAR
VERSION:2.0
PRODID:-//94.9 The Wave - ECPv4.6.26//NONSGML v1.0//EN
CALSCALE:GREGORIAN
METHOD:PUBLISH
X-WR-CALNAME:94.9 The Wave
X-ORIGINAL-URL:https://949thewave.com
X-WR-CALDESC:Events for 94.9 The Wave
BEGIN:VEVENT
DTSTART;TZID=America/Halifax:20241130T110000
DTEND;TZID=America/Halifax:20241130T160000
DTSTAMP:20260419T155515
CREATED:20241122T195206Z
LAST-MODIFIED:20241122T195206Z
UID:16405-1732964400-1732982400@949thewave.com
SUMMARY:Christmas in the Country
DESCRIPTION:Saturday November 30th @ Loch Lomond Community Hall from 11am—4pm.  $2.00 entry at the door.  Crafts\, Baked Goods\, Vendors.  Reserve your table\, $15.00 phone 902-822-1156. \n
URL:https://949thewave.com/event/christmas-in-the-country/
END:VEVENT
END:VCALENDAR