BEGIN:VCALENDAR
VERSION:2.0
PRODID:-//94.9 The Wave - ECPv4.6.26//NONSGML v1.0//EN
CALSCALE:GREGORIAN
METHOD:PUBLISH
X-WR-CALNAME:94.9 The Wave
X-ORIGINAL-URL:https://949thewave.com
X-WR-CALDESC:Events for 94.9 The Wave
BEGIN:VEVENT
DTSTART;TZID=America/Halifax:20241130T100000
DTEND;TZID=America/Halifax:20241130T140000
DTSTAMP:20260422T175809
CREATED:20241028T173048Z
LAST-MODIFIED:20241028T173048Z
UID:16274-1732960800-1732975200@949thewave.com
SUMMARY:Christmas Craft Fair
DESCRIPTION:At Sydney Forks Rec Centre\, 2639 Kings Rd Sydney Forks\nSat 30 Nov 2024. Doors open 10 am til 2 pm. Admission $2.00 \n
URL:https://949thewave.com/event/christmas-craft-fair-4/
END:VEVENT
END:VCALENDAR