BEGIN:VCALENDAR
VERSION:2.0
PRODID:-//94.9 The Wave - ECPv4.6.26//NONSGML v1.0//EN
CALSCALE:GREGORIAN
METHOD:PUBLISH
X-WR-CALNAME:94.9 The Wave
X-ORIGINAL-URL:https://949thewave.com
X-WR-CALDESC:Events for 94.9 The Wave
BEGIN:VEVENT
DTSTART;TZID=America/Halifax:20231203T130000
DTEND;TZID=America/Halifax:20231203T160000
DTSTAMP:20260425T165610
CREATED:20231115T141307Z
LAST-MODIFIED:20231115T141307Z
UID:14887-1701608400-1701619200@949thewave.com
SUMMARY:Christmas Craft & Bake Sale
DESCRIPTION:There will be a Christmas Craft & Bake Sale at St. John the Baptist Anglican Church\, 24 King Street\, North Sydney on Sunday\, December 3rd from 1:00 pm until 4:00 pm. There will be a bake table\, Christmas Bazaar items and craft tables. There will be a $2.00 admission with a chance to win a door prize. Many thanks to all who continually support our events here at St. John’s. \n
URL:https://949thewave.com/event/christmas-craft-bake-sale/
END:VEVENT
END:VCALENDAR