BEGIN:VCALENDAR
VERSION:2.0
PRODID:-//94.9 The Wave - ECPv4.6.26//NONSGML v1.0//EN
CALSCALE:GREGORIAN
METHOD:PUBLISH
X-WR-CALNAME:94.9 The Wave
X-ORIGINAL-URL:https://949thewave.com
X-WR-CALDESC:Events for 94.9 The Wave
BEGIN:VEVENT
DTSTART;TZID=America/Halifax:20220725T080000
DTEND;TZID=America/Halifax:20220725T170000
DTSTAMP:20260424T062148
CREATED:20220725T121636Z
LAST-MODIFIED:20220725T121636Z
UID:12827-1658736000-1658768400@949thewave.com
SUMMARY:Celtic Concert
DESCRIPTION:St Margaret Community Hall in Grand Mira is hosting a Celtic Concert. \nFriday\, July 29th at 7:00 p.m. \nHosted by Joe Gillis with Other Cape Breton talent including guitarists\, fiddler\, etc.\, etc. \nDonation Only ! \n
URL:https://949thewave.com/event/celtic-concert/
END:VEVENT
END:VCALENDAR