BEGIN:VCALENDAR
VERSION:2.0
PRODID:-//94.9 The Wave - ECPv4.6.26//NONSGML v1.0//EN
CALSCALE:GREGORIAN
METHOD:PUBLISH
X-WR-CALNAME:94.9 The Wave
X-ORIGINAL-URL:https://949thewave.com
X-WR-CALDESC:Events for 94.9 The Wave
BEGIN:VEVENT
DTSTART;TZID=America/Halifax:20230323T180000
DTEND;TZID=America/Halifax:20230323T200000
DTSTAMP:20260422T232505
CREATED:20230303T193210Z
LAST-MODIFIED:20230303T193210Z
UID:13796-1679594400-1679601600@949thewave.com
SUMMARY:Celebrate World Storytelling Day: Stories of Home
DESCRIPTION:Thursday\, March 23\n6:00-8:00pm\nMcConnell Library (50 Falmouth Street\, Sydney) \nWe’ve organized an evening of stories and tea in Celebration of World Storytelling Day.\nThe theme for our evening is ‘Stories of Home’ and could inspire memories of childhood homes and the places we come from\, what ‘home’ means to us\, etc. \nSpecial guests include veteran storyteller\, Bill Conall (CBRL’s Storyteller-in-Residence) and a few first time storytellers also. Everyone welcome! \nIf you’d like to share a story of home there are still spots for tellers; email tmacneil@cbrl.ca or phone 902-562-2013 to find out more. \n
URL:https://949thewave.com/event/celebrate-world-storytelling-day-stories-of-home/
END:VEVENT
END:VCALENDAR