BEGIN:VCALENDAR
VERSION:2.0
PRODID:-//94.9 The Wave - ECPv4.6.26//NONSGML v1.0//EN
CALSCALE:GREGORIAN
METHOD:PUBLISH
X-WR-CALNAME:94.9 The Wave
X-ORIGINAL-URL:https://949thewave.com
X-WR-CALDESC:Events for 94.9 The Wave
BEGIN:VEVENT
DTSTART;TZID=America/Halifax:20240214T173000
DTEND;TZID=America/Halifax:20240214T193000
DTSTAMP:20260422T163812
CREATED:20240201T184446Z
LAST-MODIFIED:20240201T184446Z
UID:15249-1707931800-1707939000@949thewave.com
SUMMARY:CBRM Connect Arts Watercolour Paint night
DESCRIPTION:Glace Bay Library \nWed Feb 14 \n5:30-7:30 \nCome make some watercolour art with CBRM Connect Arts. Registration at https://www.eventbrite.ca/cc/connectarts-466479 \n  \n
URL:https://949thewave.com/event/cbrm-connect-arts-watercolour-paint-night/
END:VEVENT
END:VCALENDAR