BEGIN:VCALENDAR
VERSION:2.0
PRODID:-//94.9 The Wave - ECPv4.6.26//NONSGML v1.0//EN
CALSCALE:GREGORIAN
METHOD:PUBLISH
X-WR-CALNAME:94.9 The Wave
X-ORIGINAL-URL:https://949thewave.com
X-WR-CALDESC:Events for 94.9 The Wave
BEGIN:VEVENT
DTSTART;TZID=America/Halifax:20170506T090000
DTEND;TZID=America/Halifax:20170506T120000
DTSTAMP:20260424T135617
CREATED:20170421T121842Z
LAST-MODIFIED:20170421T121842Z
UID:2767-1494061200-1494072000@949thewave.com
SUMMARY:CBRM 2nd Annual Great Cape Breton Clean Up
DESCRIPTION:Come join the CBRM on May 6\, 2017 from 9:00am – 12:00pm for the Second Annual Great Cape Breton Clean-Up. This litter clean-up will take place in all communities across the CBRM\, just in time for tourism season! We’re encouraging companies\, organizations\, families\, and all community members to come out and take part in keeping the CBRM clean. Ask the Sydney & Area Chamber of Commerce about the corporate challenge! We’d like to see as many people get involved in a BIG way\, while challenging others to get involved too. Local CBRM Volunteer Fire Departments will be fully equipped with supplies\, food and fun – call upon your friends\, family and co-workers on May 6\, and head to your closest Fire Department! Visit www.cbrm.ns.ca/cleanup to register and be entered to win a BBQ from Wilson’s Home Hardware \n
URL:https://949thewave.com/event/cbrm-2nd-annual-great-cape-breton-clean-up/
END:VEVENT
END:VCALENDAR