BEGIN:VCALENDAR
VERSION:2.0
PRODID:-//94.9 The Wave - ECPv4.6.26//NONSGML v1.0//EN
CALSCALE:GREGORIAN
METHOD:PUBLISH
X-WR-CALNAME:94.9 The Wave
X-ORIGINAL-URL:https://949thewave.com
X-WR-CALDESC:Events for 94.9 The Wave
BEGIN:VEVENT
DTSTART;TZID=America/Halifax:20170223T203000
DTEND;TZID=America/Halifax:20170223T213000
DTSTAMP:20260421T114012
CREATED:20170223T130224Z
LAST-MODIFIED:20170223T130224Z
UID:2127-1487881800-1487885400@949thewave.com
SUMMARY:CB Lacrosse Registration
DESCRIPTION:Cape Breton lacrosse registration Thursday February 23rd 6pm to 830pm at the Centennial Arena \n  \n
URL:https://949thewave.com/event/cb-lacrosse-registration/
END:VEVENT
END:VCALENDAR