BEGIN:VCALENDAR
VERSION:2.0
PRODID:-//94.9 The Wave - ECPv4.6.26//NONSGML v1.0//EN
CALSCALE:GREGORIAN
METHOD:PUBLISH
X-WR-CALNAME:94.9 The Wave
X-ORIGINAL-URL:https://949thewave.com
X-WR-CALDESC:Events for 94.9 The Wave
BEGIN:VEVENT
DTSTART;TZID=America/Halifax:20230418T143000
DTEND;TZID=America/Halifax:20230418T163000
DTSTAMP:20260424T125014
CREATED:20230330T175218Z
LAST-MODIFIED:20230330T175218Z
UID:13901-1681828200-1681835400@949thewave.com
SUMMARY:Caregivers NS Support Group
DESCRIPTION:Glace Bay Library \nTuesday April 18th \n2:30 – 4:30 \nOpen to all who are caregivers and need support. \n  \n
URL:https://949thewave.com/event/caregivers-ns-support-group/
END:VEVENT
END:VCALENDAR