BEGIN:VCALENDAR
VERSION:2.0
PRODID:-//94.9 The Wave - ECPv4.6.26//NONSGML v1.0//EN
CALSCALE:GREGORIAN
METHOD:PUBLISH
X-WR-CALNAME:94.9 The Wave
X-ORIGINAL-URL:https://949thewave.com
X-WR-CALDESC:Events for 94.9 The Wave
BEGIN:VEVENT
DTSTART;VALUE=DATE:20230617
DTEND;VALUE=DATE:20230618
DTSTAMP:20260424T122255
CREATED:20230523T122247Z
LAST-MODIFIED:20230523T122247Z
UID:14132-1686960000-1687046399@949thewave.com
SUMMARY:Cape Breton Chorale Concert
DESCRIPTION:The Cape Breton Chorale will be singing in Baddeck at the Alexander Graham Bell Museum National Historic Site on Saturday\, June 17th as part of the Midsummer Music Series. Doors open at 7:00 p.m. and concert starts at 7:30 p.m. Tickets are $25. Advance tickets available at the Flying Kite shop or you may buy at the door. \n
URL:https://949thewave.com/event/cape-breton-chorale-concert/
END:VEVENT
END:VCALENDAR