BEGIN:VCALENDAR
VERSION:2.0
PRODID:-//94.9 The Wave - ECPv4.6.26//NONSGML v1.0//EN
CALSCALE:GREGORIAN
METHOD:PUBLISH
X-WR-CALNAME:94.9 The Wave
X-ORIGINAL-URL:https://949thewave.com
X-WR-CALDESC:Events for 94.9 The Wave
BEGIN:VEVENT
DTSTART;TZID=America/Halifax:20170628T190000
DTEND;TZID=America/Halifax:20170628T220000
DTSTAMP:20260420T175526
CREATED:20170609T135100Z
LAST-MODIFIED:20170609T135100Z
UID:3351-1498676400-1498687200@949thewave.com
SUMMARY:Canadian Celtic Choir Concert
DESCRIPTION:The Canadian Celtic Choir will be performing at St. Andrew’s Presbyterian Church on Wednesday\, June 28th at 7:00 p.m. Special guest will be Coro Cantabile. Tickets are $20 each and can be purchased at the door or at Shoppers Drug Mart in North Sydney or Pharmasave in Sydney Mines. Some of the familiar songs you will hear on that evening will be Farewell to Nova Scotia\, Danny Boy\, Fare Thee Well Love and many many more \n
URL:https://949thewave.com/event/canadian-celtic-choir-concert/
END:VEVENT
END:VCALENDAR