BEGIN:VCALENDAR
VERSION:2.0
PRODID:-//94.9 The Wave - ECPv4.6.26//NONSGML v1.0//EN
CALSCALE:GREGORIAN
METHOD:PUBLISH
X-WR-CALNAME:94.9 The Wave
X-ORIGINAL-URL:https://949thewave.com
X-WR-CALDESC:Events for 94.9 The Wave
BEGIN:VEVENT
DTSTART;TZID=America/Halifax:20210904T140000
DTEND;TZID=America/Halifax:20210904T153000
DTSTAMP:20260421T092447
CREATED:20210630T132545Z
LAST-MODIFIED:20210630T132545Z
UID:11556-1630764000-1630769400@949thewave.com
SUMMARY:Caledonia Men's Rugby Club Home Game
DESCRIPTION:Open Hearth Park Field \n2 pm versus Tars \n
URL:https://949thewave.com/event/caledonia-mens-rugby-club-home-game-4-2/
CATEGORIES:Community Events
END:VEVENT
END:VCALENDAR