BEGIN:VCALENDAR
VERSION:2.0
PRODID:-//94.9 The Wave - ECPv4.6.26//NONSGML v1.0//EN
CALSCALE:GREGORIAN
METHOD:PUBLISH
X-WR-CALNAME:94.9 The Wave
X-ORIGINAL-URL:https://949thewave.com
X-WR-CALDESC:Events for 94.9 The Wave
BEGIN:VEVENT
DTSTART;TZID=America/Halifax:20231026T103000
DTEND;TZID=America/Halifax:20231026T113000
DTSTAMP:20260423T113853
CREATED:20231010T172502Z
LAST-MODIFIED:20231010T172502Z
UID:14682-1698316200-1698319800@949thewave.com
SUMMARY:Busy Bee Tots Group
DESCRIPTION:Glace Bay Library \nThursday Oct 26 \n10:30 – 11:30 \nDrop in with your tots and enjoy our space\, books and toys.  Make some friend and relax with other parents/caregivers. \n  \n
URL:https://949thewave.com/event/busy-bee-tots-group-2/
END:VEVENT
END:VCALENDAR