BEGIN:VCALENDAR
VERSION:2.0
PRODID:-//94.9 The Wave - ECPv4.6.26//NONSGML v1.0//EN
CALSCALE:GREGORIAN
METHOD:PUBLISH
X-WR-CALNAME:94.9 The Wave
X-ORIGINAL-URL:https://949thewave.com
X-WR-CALDESC:Events for 94.9 The Wave
BEGIN:VEVENT
DTSTART;VALUE=DATE:20260428
DTEND;VALUE=DATE:20260429
DTSTAMP:20260424T085927
CREATED:20260325T142532Z
LAST-MODIFIED:20260325T142532Z
UID:18155-1777334400-1777420799@949thewave.com
SUMMARY:Brookshaven Hall AGM
DESCRIPTION:Our AGM will be held Tuesday April 28th at 7pm.\nBrookshaven hall\n1748 Alexandra st Prime Brook \nWe encourage the community to come out & support the hall & learn about all the progress we have made & what’s to come! \nMembership dues are $5 & can be paid the day of meeting by cash or before hand by e-transfer at: brookshaven@outlook.com in the memo please put member dues! This is for New & Existing Members! \nWe will be looking for New volunteers to join our team! \nAlong with some new directors to join the bored! \n
URL:https://949thewave.com/event/brookshaven-hall-agm/
END:VEVENT
END:VCALENDAR