BEGIN:VCALENDAR
VERSION:2.0
PRODID:-//94.9 The Wave - ECPv4.6.26//NONSGML v1.0//EN
CALSCALE:GREGORIAN
METHOD:PUBLISH
X-WR-CALNAME:94.9 The Wave
X-ORIGINAL-URL:https://949thewave.com
X-WR-CALDESC:Events for 94.9 The Wave
BEGIN:VEVENT
DTSTART;TZID=America/Halifax:20250630T100000
DTEND;TZID=America/Halifax:20250630T130000
DTSTAMP:20260421T050015
CREATED:20250609T130042Z
LAST-MODIFIED:20250609T130042Z
UID:17086-1751277600-1751288400@949thewave.com
SUMMARY:Brogan's Fisheries Grading Day Celebration
DESCRIPTION:June 30th from 10am-1pm at Brogan’s \nBikes\, Scooters\, Fishing\, Face painting and more.  Hot Dogs\, Cotton Candy and Cold drinks will be available. \n
URL:https://949thewave.com/event/brogans-fisheries-grading-day-celebration/
END:VEVENT
END:VCALENDAR