BEGIN:VCALENDAR
VERSION:2.0
PRODID:-//94.9 The Wave - ECPv4.6.26//NONSGML v1.0//EN
CALSCALE:GREGORIAN
METHOD:PUBLISH
X-WR-CALNAME:94.9 The Wave
X-ORIGINAL-URL:https://949thewave.com
X-WR-CALDESC:Events for 94.9 The Wave
BEGIN:VEVENT
DTSTART;TZID=America/Halifax:20200313T083000
DTEND;TZID=America/Halifax:20200313T100000
DTSTAMP:20260422T163833
CREATED:20200310T174441Z
LAST-MODIFIED:20200310T174441Z
UID:9488-1584088200-1584093600@949thewave.com
SUMMARY:Breakfast and Conversation with Honourable Mayann Francis
DESCRIPTION:You are invited to a breakfast conversation with the Honourable Mayann Francis\, former Lieutenant Governor\, at the Polish Village Hall in Whitney Pier this Friday\, March 13\, from 8:30 a.m. to 10 a.m. Dr. Francis will be speaking about “Building Healthy Communities for Children.” There is no charge. \n
URL:https://949thewave.com/event/breakfast-and-conversation-with-honourable-mayann-francis/
END:VEVENT
END:VCALENDAR