BEGIN:VCALENDAR
VERSION:2.0
PRODID:-//94.9 The Wave - ECPv4.6.26//NONSGML v1.0//EN
CALSCALE:GREGORIAN
METHOD:PUBLISH
X-WR-CALNAME:94.9 The Wave
X-ORIGINAL-URL:https://949thewave.com
X-WR-CALDESC:Events for 94.9 The Wave
BEGIN:VEVENT
DTSTART;TZID=America/Halifax:20221210T130000
DTEND;TZID=America/Halifax:20221210T150000
DTSTAMP:20260424T111423
CREATED:20221124T195426Z
LAST-MODIFIED:20221124T195426Z
UID:13369-1670677200-1670684400@949thewave.com
SUMMARY:Book Signing: Tunes and Wooden Spoons: Love Without Measure\, by Mary Janet MacDonald
DESCRIPTION:Saturday\, Dec. 10\n1-3 pm\nMcConnell Library (50 Falmouth St.\, Sydney) \nJoin facebook baking sensation Mary Janet MacDonald and co-author Margie MacDonald for a book signing of their latest cookbook Tunes and Wooden Spoons: Love Without Measure. \nBring your books to be signed\, or purchase a copy on site. \n
URL:https://949thewave.com/event/book-signing-tunes-and-wooden-spoons-love-without-measure-by-mary-janet-macdonald/
END:VEVENT
END:VCALENDAR