BEGIN:VCALENDAR
VERSION:2.0
PRODID:-//94.9 The Wave - ECPv4.6.26//NONSGML v1.0//EN
CALSCALE:GREGORIAN
METHOD:PUBLISH
X-WR-CALNAME:94.9 The Wave
X-ORIGINAL-URL:https://949thewave.com
X-WR-CALDESC:Events for 94.9 The Wave
BEGIN:VEVENT
DTSTART;TZID=America/Halifax:20220917T100000
DTEND;TZID=America/Halifax:20220917T130000
DTSTAMP:20260424T152039
CREATED:20220829T130906Z
LAST-MODIFIED:20220829T130958Z
UID:12912-1663408800-1663419600@949thewave.com
SUMMARY:2nd Annual Boisdale Fall Fair
DESCRIPTION:The Hills of Boisdale Community Association is hosting their second annual\nfall fair In Boisdale at The “Park 223” \nSaturday Sept.17. Rain date Sept.18 from 10-1pm \nWith plants\, baked goods\, flea market\, books\, toys\, 50/50 and food (sausages\,\nhotdogs\, chips\, pop and water) for sale. \n
URL:https://949thewave.com/event/boisdale-fall-fair/
END:VEVENT
END:VCALENDAR