BEGIN:VCALENDAR
VERSION:2.0
PRODID:-//94.9 The Wave - ECPv4.6.26//NONSGML v1.0//EN
CALSCALE:GREGORIAN
METHOD:PUBLISH
X-WR-CALNAME:94.9 The Wave
X-ORIGINAL-URL:https://949thewave.com
X-WR-CALDESC:Events for 94.9 The Wave
BEGIN:VEVENT
DTSTART;TZID=America/Halifax:20230116T140000
DTEND;TZID=America/Halifax:20230116T160000
DTSTAMP:20260421T124920
CREATED:20221230T144229Z
LAST-MODIFIED:20221230T144229Z
UID:13463-1673877600-1673884800@949thewave.com
SUMMARY:Board @ The Library
DESCRIPTION:Where:  Glace Bay Library \nWhen:  January 16th from 2pm-4pm \nBring your board games or play ours. \n
URL:https://949thewave.com/event/board-the-library/
END:VEVENT
END:VCALENDAR