BEGIN:VCALENDAR
VERSION:2.0
PRODID:-//94.9 The Wave - ECPv4.6.26//NONSGML v1.0//EN
CALSCALE:GREGORIAN
METHOD:PUBLISH
X-WR-CALNAME:94.9 The Wave
X-ORIGINAL-URL:https://949thewave.com
X-WR-CALDESC:Events for 94.9 The Wave
BEGIN:VEVENT
DTSTART;TZID=America/Halifax:20170720T180000
DTEND;TZID=America/Halifax:20170720T210000
DTSTAMP:20260420T192734
CREATED:20170717T184003Z
LAST-MODIFIED:20170717T184003Z
UID:3608-1500573600-1500584400@949thewave.com
SUMMARY:Board Games Night @ the Library
DESCRIPTION:Board Games Night @ the Library\nThursday July 20th\, 6:00-9:00 pm \n Come and enjoy a variety of great board and card games. There are lots to choose from including Settlers of Catan\, Ticket to Ride\, Skip Bo\, classics like Balderdash\, Scrabble\, Clue\, Monopoly\, and more!  Drop in and bring your friends! If you have a favorite game you’d like to share\, bring it too!  Our Dungeons and Dragons beginners’ series for youth ages 12-18 will join us for their second session too\, so the room will be buzzing!  \nEveryone welcome! \n
URL:https://949thewave.com/event/board-games-night-the-library-2/
END:VEVENT
END:VCALENDAR