BEGIN:VCALENDAR
VERSION:2.0
PRODID:-//94.9 The Wave - ECPv4.6.26//NONSGML v1.0//EN
CALSCALE:GREGORIAN
METHOD:PUBLISH
X-WR-CALNAME:94.9 The Wave
X-ORIGINAL-URL:https://949thewave.com
X-WR-CALDESC:Events for 94.9 The Wave
BEGIN:VEVENT
DTSTART;VALUE=DATE:20170624
DTEND;VALUE=DATE:20170625
DTSTAMP:20260423T175228
CREATED:20170612T153538Z
LAST-MODIFIED:20170612T153538Z
UID:3368-1498262400-1498348799@949thewave.com
SUMMARY:Blues on the Beach
DESCRIPTION:Protocase and The Sydney Credit Union\,(thecape94.9 and Max98.3FM presents Cape Breton music industry cooperative children’s concert June 24th at 2pm. Enjoy an afternoon of music\, fun and interaction with two excellent children’s performers: Weird Beard and Duncan Wells. Children’s tickets are $20 and Adult tickets are $25. Tickets available on Eventbrite.ca and from the Cape Breton Curiosity Shop. 296 Charlotte St. Sydney ( Cash Only) The adult ticket also admits access to our evening 19+ event -Blues On The Beach. \nProtocase and The Sydney Credit Union\,(thecape94.9 and Max98.3FM)  presents Cape Breton music industry cooperative fundraising event- Blues On The Beach June 24th at the  Joan Harris Cruise Pavilion 8pm . A fun filled evening for  featuring two excellent performers – John Campbelljohn and The Blues Merchants. All with a beach theme. Tickets are $25 and available on Eventbrite.ca and from The Cape Breton Curiosity Shop. 296 Charlotte St. Sydney. \n
URL:https://949thewave.com/event/blues-on-the-beach-2/
CATEGORIES:Concerts
ATTACH;FMTTYPE=image/gif:https://949thewave.com/wp-content/uploads/sites/12/2017/06/BluesonTheBeach.gif
END:VEVENT
END:VCALENDAR