BEGIN:VCALENDAR
VERSION:2.0
PRODID:-//94.9 The Wave - ECPv4.6.26//NONSGML v1.0//EN
CALSCALE:GREGORIAN
METHOD:PUBLISH
X-WR-CALNAME:94.9 The Wave
X-ORIGINAL-URL:https://949thewave.com
X-WR-CALDESC:Events for 94.9 The Wave
BEGIN:VEVENT
DTSTART;TZID=America/Halifax:20220821T140000
DTEND;TZID=America/Halifax:20220821T170000
DTSTAMP:20260424T162847
CREATED:20220805T152620Z
LAST-MODIFIED:20220805T152620Z
UID:12859-1661090400-1661101200@949thewave.com
SUMMARY:Blueberry Festival
DESCRIPTION:Southside Boularderie Vol. Fire Dept. Fire Hall\nSunday Aug 21 2 pm to 5 pm\nTake Out Only\nFollowing all Nova Scotia Health Protocols\n$12.00\nContact any firefighter for tickets\nOr call Jimmie 902-736-6731\, Mike 902 578-4794 \n
URL:https://949thewave.com/event/blueberry-festival-7/
END:VEVENT
END:VCALENDAR