BEGIN:VCALENDAR
VERSION:2.0
PRODID:-//94.9 The Wave - ECPv4.6.26//NONSGML v1.0//EN
CALSCALE:GREGORIAN
METHOD:PUBLISH
X-WR-CALNAME:94.9 The Wave
X-ORIGINAL-URL:https://949thewave.com
X-WR-CALDESC:Events for 94.9 The Wave
BEGIN:VEVENT
DTSTART;TZID=America/Halifax:20170814T090000
DTEND;TZID=America/Halifax:20170818T120000
DTSTAMP:20260420T222847
CREATED:20170801T174654Z
LAST-MODIFIED:20170801T174654Z
UID:3655-1502701200-1503057600@949thewave.com
SUMMARY:Bible School
DESCRIPTION:Agents In Action Vacation Bible School \nGrace Fellowship Church\, 3 Meadowbrook Dr.\, Sydney Mines\, N.S. \nMonday – Friday\, August 14-18\, 2017\, 9 a.m. – 12 Noon each day \nCome and enjoy Music\, Bible Exploration\, Crafts\, Games\, Snacks\, and on Friday a Hot Dog Barbeque. \nFor more information call Pastor Rick Barnes at 736-0262 or Sharon Barnes at 736-9499. \nSee you at VBS! \n  \n
URL:https://949thewave.com/event/bible-school/
END:VEVENT
END:VCALENDAR