BEGIN:VCALENDAR
VERSION:2.0
PRODID:-//94.9 The Wave - ECPv4.6.26//NONSGML v1.0//EN
CALSCALE:GREGORIAN
METHOD:PUBLISH
X-WR-CALNAME:94.9 The Wave
X-ORIGINAL-URL:https://949thewave.com
X-WR-CALDESC:Events for 94.9 The Wave
BEGIN:VEVENT
DTSTART;VALUE=DATE:20230923
DTEND;VALUE=DATE:20230924
DTSTAMP:20260425T153839
CREATED:20230828T121833Z
LAST-MODIFIED:20230828T121833Z
UID:14488-1695427200-1695513599@949thewave.com
SUMMARY:Bethel United Church Country Auction
DESCRIPTION:Country Auction\nSaturday September 23.2023\n2PM Doors open at 1PM\nAuctioneer Alfie MacLeod.  Bethel United Church Hall Hillside Rd\, Marion Bridge\nNew\, up cycled and delicious baking on offer. \n
URL:https://949thewave.com/event/bethel-united-church-country-auction/
END:VEVENT
END:VCALENDAR