BEGIN:VCALENDAR
VERSION:2.0
PRODID:-//94.9 The Wave - ECPv4.6.26//NONSGML v1.0//EN
CALSCALE:GREGORIAN
METHOD:PUBLISH
X-WR-CALNAME:94.9 The Wave
X-ORIGINAL-URL:https://949thewave.com
X-WR-CALDESC:Events for 94.9 The Wave
BEGIN:VEVENT
DTSTART;TZID=America/Halifax:20230124T180000
DTEND;TZID=America/Halifax:20230124T193000
DTSTAMP:20260421T024616
CREATED:20230113T131440Z
LAST-MODIFIED:20230113T131440Z
UID:13521-1674583200-1674588600@949thewave.com
SUMMARY:Bereaved Families of Cape Breton Grief Program
DESCRIPTION:Bereaved Families of Cape Breton is offering the following Grief program: \nLoss of a Spouse or Partner a 6-week grief program that caters to individuals who have Lost a Spouse or Partner. This is a 6-week program offered each Tuesday starting on January 24th\, from 6:00 – 7:30 pm. All sessions are offered in-person and virtually. (Bereaved Families offer dedicated six-week to help move through the grief process and for the mental health and well-being of individuals. These sessions are open to anyone 18 years of age and older.) \nAll Programs are complimentary (at no cost to participants) and are designed to bring people together who have lost a loved one. Programs will all take place at the Eltuek Arts Centre (formerly the Convent)\,170 George Street\, Sydney. \nFor more information on these programs or to register please visit their website or Facebook page. You can also contact the office at (902) 564-6795 or email infobfcb@gmail.com \n
URL:https://949thewave.com/event/bereaved-families-of-cape-breton-grief-program-2/
END:VEVENT
END:VCALENDAR