BEGIN:VCALENDAR
VERSION:2.0
PRODID:-//94.9 The Wave - ECPv4.6.26//NONSGML v1.0//EN
CALSCALE:GREGORIAN
METHOD:PUBLISH
X-WR-CALNAME:94.9 The Wave
X-ORIGINAL-URL:https://949thewave.com
X-WR-CALDESC:Events for 94.9 The Wave
BEGIN:VEVENT
DTSTART;TZID=America/Halifax:20240418T180000
DTEND;TZID=America/Halifax:20240418T193000
DTSTAMP:20260421T175809
CREATED:20240415T151341Z
LAST-MODIFIED:20240415T151341Z
UID:15436-1713463200-1713468600@949thewave.com
SUMMARY:Benefits of Hypnotherapy with Jokers Wild Entertainment
DESCRIPTION:Glace Bay Library \nThurs April 18 \n6-7:30 \nJoin Scott from Jokers Wild Entertainment to learn the benefits of Hypnotherapy. Registration required.  Please email glacebay@cbrl.ca or call 902-849-8657 \n
URL:https://949thewave.com/event/benefits-of-hypnotherapy-with-jokers-wild-entertainment/
END:VEVENT
END:VCALENDAR