BEGIN:VCALENDAR
VERSION:2.0
PRODID:-//94.9 The Wave - ECPv4.6.26//NONSGML v1.0//EN
CALSCALE:GREGORIAN
METHOD:PUBLISH
X-WR-CALNAME:94.9 The Wave
X-ORIGINAL-URL:https://949thewave.com
X-WR-CALDESC:Events for 94.9 The Wave
BEGIN:VEVENT
DTSTART;TZID=America/Halifax:20240124T080000
DTEND;TZID=America/Halifax:20240124T170000
DTSTAMP:20260425T101916
CREATED:20240108T192351Z
LAST-MODIFIED:20240108T192351Z
UID:15132-1706083200-1706115600@949thewave.com
SUMMARY:Ben Eoin Snowshoe Jaunt *
DESCRIPTION:Ben Eoin Snowshoe Jaunt: Jan. 24\nHike Nova Scotia and Ski Ben Eoin present a guided snowshoe hike in Ben Eoin on January 24 at 6 pm. Registration required in advance\, cost $15 to $25; details at www.hikenovascotia.ca. \n
URL:https://949thewave.com/event/ben-eoin-snowshoe-jaunt/
END:VEVENT
END:VCALENDAR