BEGIN:VCALENDAR
VERSION:2.0
PRODID:-//94.9 The Wave - ECPv4.6.26//NONSGML v1.0//EN
CALSCALE:GREGORIAN
METHOD:PUBLISH
X-WR-CALNAME:94.9 The Wave
X-ORIGINAL-URL:https://949thewave.com
X-WR-CALDESC:Events for 94.9 The Wave
BEGIN:VEVENT
DTSTART;TZID=America/Halifax:20230118T100000
DTEND;TZID=America/Halifax:20230118T110000
DTSTAMP:20260423T132117
CREATED:20221230T144503Z
LAST-MODIFIED:20221230T144503Z
UID:13467-1674036000-1674039600@949thewave.com
SUMMARY:Babies and Books
DESCRIPTION:Where:  Glace Bay Library \nWhen:  January 18th from 10am-11am \nRegistration required.  Please call 902-849-8657 \n
URL:https://949thewave.com/event/babies-and-books/
END:VEVENT
END:VCALENDAR