BEGIN:VCALENDAR
VERSION:2.0
PRODID:-//94.9 The Wave - ECPv4.6.26//NONSGML v1.0//EN
CALSCALE:GREGORIAN
METHOD:PUBLISH
X-WR-CALNAME:94.9 The Wave
X-ORIGINAL-URL:https://949thewave.com
X-WR-CALDESC:Events for 94.9 The Wave
BEGIN:VEVENT
DTSTART;TZID=America/Halifax:20230426T100000
DTEND;TZID=America/Halifax:20230426T110000
DTSTAMP:20260424T121956
CREATED:20230330T180209Z
LAST-MODIFIED:20230330T180209Z
UID:13917-1682503200-1682506800@949thewave.com
SUMMARY:Babies and Books
DESCRIPTION:Glace Bay Library \nWednesday April 26 \n10am – 11am \nJoin us for an hour of stories\, songs\, and fun.  Registration required.  Please call the library to register. \n  \n
URL:https://949thewave.com/event/babies-and-books-6/
END:VEVENT
END:VCALENDAR