BEGIN:VCALENDAR
VERSION:2.0
PRODID:-//94.9 The Wave - ECPv4.6.26//NONSGML v1.0//EN
CALSCALE:GREGORIAN
METHOD:PUBLISH
X-WR-CALNAME:94.9 The Wave
X-ORIGINAL-URL:https://949thewave.com
X-WR-CALDESC:Events for 94.9 The Wave
BEGIN:VEVENT
DTSTART;TZID=America/Halifax:20231107T100000
DTEND;TZID=America/Halifax:20231107T110000
DTSTAMP:20260421T043330
CREATED:20231106T160851Z
LAST-MODIFIED:20231106T160851Z
UID:14768-1699351200-1699354800@949thewave.com
SUMMARY:Babies and Books
DESCRIPTION:Glace Bay Library \nTuesday Nov 7 \n10 – 11 \nJoin us for an hour of stories\, songs and play with your little ones. Registration required. Please email ewilliams@cbrl.ca or cmcinnis@cbrl.ca \n\n
URL:https://949thewave.com/event/babies-and-books-10/
END:VEVENT
END:VCALENDAR