BEGIN:VCALENDAR
VERSION:2.0
PRODID:-//94.9 The Wave - ECPv4.6.26//NONSGML v1.0//EN
CALSCALE:GREGORIAN
METHOD:PUBLISH
X-WR-CALNAME:94.9 The Wave
X-ORIGINAL-URL:https://949thewave.com
X-WR-CALDESC:Events for 94.9 The Wave
BEGIN:VEVENT
DTSTART;VALUE=DATE:20230825
DTEND;VALUE=DATE:20230828
DTSTAMP:20260420T175616
CREATED:20230809T121130Z
LAST-MODIFIED:20230809T121130Z
UID:14429-1692921600-1693180799@949thewave.com
SUMMARY:Augustfest at Tower Road Community Fire Hall
DESCRIPTION:Augustfest 2023 hosted by Tower Road Community Fire Hall will be held August 25th\, 26 th and 27th… Friday August 25th from 8 p.m. -12 a.m. featuring music by Final Cut … Saturday August 26 th there will be washer toss and music from 3 p.m -7 pm with Second Wave … Sunday is kids day with games and prizes for the kiddies from 2 p.m. – 4 p.m…. Come and join us for a great weekend !!! \n
URL:https://949thewave.com/event/augustfest-at-tower-road-community-fire-hall/
END:VEVENT
END:VCALENDAR