BEGIN:VCALENDAR
VERSION:2.0
PRODID:-//94.9 The Wave - ECPv4.6.26//NONSGML v1.0//EN
CALSCALE:GREGORIAN
METHOD:PUBLISH
X-WR-CALNAME:94.9 The Wave
X-ORIGINAL-URL:https://949thewave.com
X-WR-CALDESC:Events for 94.9 The Wave
BEGIN:VEVENT
DTSTART;VALUE=DATE:20210816
DTEND;VALUE=DATE:20210902
DTSTAMP:20260420T190158
CREATED:20210719T180228Z
LAST-MODIFIED:20210719T191049Z
UID:11687-1629072000-1630540799@949thewave.com
SUMMARY:Auditions for the Cape Breton Chorale
DESCRIPTION:Auditions for the Cape Breton Chorale\nTaking place in Sydney from August 16-September 1st\nTo arrange an audition\, contact 902-968-9041 or email info@capebretonchorale.com\nThe choir is looking for Tenors and Basses\, in particular\, but may also audition altos.\nApplicants will need to prepare a piece (in a style comfortable to them) and will also be given a short choral excerpt to learn in advance of the audition.\nYou may also visit our website at capebretonchorale.com \n
URL:https://949thewave.com/event/auditions-for-the-cape-breton-chorale/
CATEGORIES:Community
END:VEVENT
END:VCALENDAR